BEGIN:VCALENDAR
VERSION:2.0
PRODID:-//Tukios.com/
BEGIN:VEVENT
UID:5407aeb5-a18b-4489-85a4-37d4f017c8af@www.asperfh.com
DTSTAMP:20260422T184838Z
DTSTART:20260425T170000Z
DTEND:20260425T180000Z
SUMMARY:Funeral Service
DESCRIPTION:
URL:https://www.asperfh.com/obituaries/mildred-denter
LOCATION:Our Savior’s Lutheran Church 14 West Monroe Avenue  Chester MT 
	59522
GEO:48.5097745;-110.9663635
END:VEVENT
END:VCALENDAR