BEGIN:VCALENDAR
VERSION:2.0
PRODID:-//Tukios.com/
BEGIN:VEVENT
UID:e45e617b-f47d-4a24-a6b3-93929ed96e9e@www.asperfh.com
DTSTAMP:20260421T203549Z
DTSTART:20260501T183000Z
DTEND:20260501T193000Z
SUMMARY:Funeral Service
DESCRIPTION:
URL:https://www.asperfh.com/obituaries/marsha-harding
LOCATION:Church of Jesus Christ of Latter-Day Saints Chester 580 West 
	Jefferson Ave  Chester MT 59522
GEO:48.5118588;-110.9751229
END:VEVENT
END:VCALENDAR